BEGIN:VCALENDAR
PRODID:-//eluceo/ical//2.0/EN
VERSION:2.0
CALSCALE:GREGORIAN
BEGIN:VEVENT
UID:a049ab9153bff1c5d31e49488a3913f5
DTSTAMP:20260421T123444Z
SUMMARY:aktuelles Zollregime im Raum Basel
DESCRIPTION:Govornik(ci): Heinz Engi Zollkreisdirektion Basel
URL:https://rotary-club-basel.ch/bs/agenda/show/20566
DTSTART;TZID=Europe/Zurich:20120312T000000
DTEND;TZID=Europe/Zurich:20120312T000000
LOCATION:Restaurant Schlüsselzunft
CATEGORIES:Rotary
END:VEVENT
BEGIN:VTIMEZONE
TZID:Europe/Zurich
BEGIN:STANDARD
DTSTART:20120312T000000
TZNAME:CET
TZOFFSETTO:+0100
TZOFFSETFROM:+0100
END:STANDARD
END:VTIMEZONE
END:VCALENDAR
