BEGIN:VCALENDAR
PRODID:-//eluceo/ical//2.0/EN
VERSION:2.0
CALSCALE:GREGORIAN
BEGIN:VEVENT
UID:97b3c8ab72ac046a04fc8b73946116f1
DTSTAMP:20260421T082046Z
SUMMARY:Einladung durch Lions
DESCRIPTION:Govornik(ci): Partneranlass mit Lions (abends)
URL:https://rotary-club-basel.ch/bs/agenda/show/20558
DTSTART;TZID=Europe/Zurich:20120116T000000
DTEND;TZID=Europe/Zurich:20120116T000000
LOCATION:Restaurant Schlüsselzunft
CATEGORIES:Rotary
END:VEVENT
BEGIN:VTIMEZONE
TZID:Europe/Zurich
BEGIN:STANDARD
DTSTART:20120116T000000
TZNAME:CET
TZOFFSETTO:+0100
TZOFFSETFROM:+0100
END:STANDARD
END:VTIMEZONE
END:VCALENDAR
