BEGIN:VCALENDAR
PRODID:-//eluceo/ical//2.0/EN
VERSION:2.0
CALSCALE:GREGORIAN
BEGIN:VEVENT
UID:3282fc1f96011b0c0633350e3fa87e1c
DTSTAMP:20260421T090118Z
SUMMARY:Weihnachtsanlass Basler Rotary Club
DESCRIPTION:
URL:https://rotary-club-basel.ch/bs/agenda/show/18712
DTSTART;TZID=Europe/Zurich:20111212T180000
DTEND;TZID=Europe/Zurich:20111212T180000
LOCATION:Basler Münster
CATEGORIES:Rotary
END:VEVENT
BEGIN:VTIMEZONE
TZID:Europe/Zurich
BEGIN:STANDARD
DTSTART:20111212T180000
TZNAME:CET
TZOFFSETTO:+0100
TZOFFSETFROM:+0100
END:STANDARD
END:VTIMEZONE
END:VCALENDAR
